BEGIN:VCALENDAR
VERSION:2.0
PRODID:icalendar-ruby
CALSCALE:GREGORIAN
METHOD:PUBLISH
BEGIN:VEVENT
DTSTAMP:20260424T113747Z
UID:64-1496108@williamsvilleumc.org
DTSTART;VALUE=DATE:20260425
DTEND;VALUE=DATE:20260425
CLASS:PUBLIC
CREATED:20260331T210247
DESCRIPTION:Sign up at the table in the Oakgrove entrance to volunteer on t
 his field trip to clean up local waterways!
LAST-MODIFIED:20260331T210247
LOCATION:
SUMMARY:Buffalo Niagara Waterkeepers
URL;VALUE=URI:https://www.williamsvilleumc.org/events/buffalo-niagara-water
 keepers/2026-04-25
END:VEVENT
END:VCALENDAR
